BEGIN:VCALENDAR
VERSION:2.0
PRODID:-//Squarespace Inc/Squarespace 6//v6//EN
BEGIN:VEVENT
UID:5f90c10ac0b5d418d9d28086@squarespace.com
DTSTAMP:20201021T231556Z
DTSTART:20201118T050000Z
DTEND:20201118T060000Z
SUMMARY:Annual General Meeting
END:VEVENT
END:VCALENDAR
