BEGIN:VCALENDAR
VERSION:2.0
PRODID:-//Squarespace Inc/Squarespace 6//v6//EN
BEGIN:VEVENT
UID:5faca93fe44daa6be0bae6db@squarespace.com
DTSTAMP:20201112T031835Z
DTSTART:20201206T010000Z
DTEND:20201206T090000Z
SUMMARY:Atrium Christmas Party
END:VEVENT
END:VCALENDAR
