BEGIN:VCALENDAR
VERSION:2.0
PRODID:-//Squarespace Inc/Squarespace 6//v6//EN
BEGIN:VEVENT
UID:5ea776f6a053de4c4614dfb1@squarespace.com
DTSTAMP:20200521T233133Z
DTSTART:20200525T060000Z
DTEND:20200525T070000Z
SUMMARY:Oysters are Back!
GEO:-36.850066;174.761804
LOCATION:Atrium Club\, 170 Federal Street\, Auckland\, Auckland\, 1010\, Ne
 w Zealand
END:VEVENT
END:VCALENDAR
