BEGIN:VCALENDAR
VERSION:2.0
PRODID:-//Squarespace Inc/Squarespace 6//v6//EN
BEGIN:VEVENT
UID:5f90c0b84ae53632cde19c18@squarespace.com
DTSTAMP:20201021T231509Z
DTSTART:20201028T050000Z
DTEND:20201028T090000Z
SUMMARY:Sean McKeown Remembrance Night
END:VEVENT
END:VCALENDAR
